BEGIN:VCALENDAR
VERSION:2.0
PRODID:-//hacksw/handcal//NONSGML v1.0//EN
CALSCALE:GREGORIAN
BEGIN:VEVENT
DTEND:20070614T230000Z
UID:69e7d9962de1a
DTSTAMP:20260421T210958Z
LOCATION:0 
DESCRIPTION:
URL;VALUE=URI:
SUMMARY:27. Heiligenröder Abendlauf
DTSTART:20070614T230000Z
END:VEVENT
END:VCALENDAR
An internal server error occurred.