BEGIN:VCALENDAR
VERSION:2.0
PRODID:-//hacksw/handcal//NONSGML v1.0//EN
CALSCALE:GREGORIAN
BEGIN:VEVENT
DTEND:20070614T230000Z
UID:69e78fcc1a40c
DTSTAMP:20260421T155508Z
LOCATION:0 
DESCRIPTION:
URL;VALUE=URI:
SUMMARY:Sanderrasen-Läufermeeting
DTSTART:20070614T230000Z
END:VEVENT
END:VCALENDAR
An internal server error occurred.