BEGIN:VCALENDAR
VERSION:2.0
PRODID:-//hacksw/handcal//NONSGML v1.0//EN
CALSCALE:GREGORIAN
BEGIN:VEVENT
DTEND:20070614T230000Z
UID:69e9092d3c913
DTSTAMP:20260422T184517Z
LOCATION:0 
DESCRIPTION:
URL;VALUE=URI:
SUMMARY:7. Brunsbütteler Citylauf/17. Dithmarschen-Cup 2007
DTSTART:20070614T230000Z
END:VEVENT
END:VCALENDAR
An internal server error occurred.