BEGIN:VCALENDAR
VERSION:2.0
PRODID:-//hacksw/handcal//NONSGML v1.0//EN
CALSCALE:GREGORIAN
BEGIN:VEVENT
DTEND:20070613T230000Z
UID:69e7235d6f832
DTSTAMP:20260421T081229Z
LOCATION:0 
DESCRIPTION:
URL;VALUE=URI:
SUMMARY:Stundenpaarlauf
DTSTART:20070613T230000Z
END:VEVENT
END:VCALENDAR
An internal server error occurred.