BEGIN:VCALENDAR
VERSION:2.0
PRODID:-//hacksw/handcal//NONSGML v1.0//EN
CALSCALE:GREGORIAN
BEGIN:VEVENT
DTEND:20070612T230000Z
UID:69e8eccd4a2ee
DTSTAMP:20260422T164413Z
LOCATION:0 
DESCRIPTION:
URL;VALUE=URI:
SUMMARY:15. JPMorgan Chase Corporate Challenge
DTSTART:20070612T230000Z
END:VEVENT
END:VCALENDAR
An internal server error occurred.