BEGIN:VCALENDAR
VERSION:2.0
PRODID:-//hacksw/handcal//NONSGML v1.0//EN
CALSCALE:GREGORIAN
BEGIN:VEVENT
DTEND:20070612T230000Z
UID:69ed16d4f3820
DTSTAMP:20260425T203236Z
LOCATION:0 
DESCRIPTION:
URL;VALUE=URI:
SUMMARY:26. Berliner Bahnlaufserie (3. Lauf)
DTSTART:20070612T230000Z
END:VEVENT
END:VCALENDAR
An internal server error occurred.