BEGIN:VCALENDAR
VERSION:2.0
PRODID:-//hacksw/handcal//NONSGML v1.0//EN
CALSCALE:GREGORIAN
BEGIN:VEVENT
DTEND:20070609T230000Z
UID:69e725a978044
DTSTAMP:20260421T082217Z
LOCATION:0 
DESCRIPTION:
URL;VALUE=URI:
SUMMARY:23. Intern. Volkslauf Bad Laer
DTSTART:20070609T230000Z
END:VEVENT
END:VCALENDAR
An internal server error occurred.