BEGIN:VCALENDAR
VERSION:2.0
PRODID:-//hacksw/handcal//NONSGML v1.0//EN
CALSCALE:GREGORIAN
BEGIN:VEVENT
DTEND:20070609T230000Z
UID:69e6c9ef0e4b4
DTSTAMP:20260421T015055Z
LOCATION:0 
DESCRIPTION:
URL;VALUE=URI:
SUMMARY:Poeler Insellauf
DTSTART:20070609T230000Z
END:VEVENT
END:VCALENDAR
An internal server error occurred.