BEGIN:VCALENDAR
VERSION:2.0
PRODID:-//hacksw/handcal//NONSGML v1.0//EN
CALSCALE:GREGORIAN
BEGIN:VEVENT
DTEND:20070609T230000Z
UID:69e6f9334e7be
DTSTAMP:20260421T051235Z
LOCATION:0 
DESCRIPTION:
URL;VALUE=URI:
SUMMARY:23. Marathon Menden
DTSTART:20070609T230000Z
END:VEVENT
END:VCALENDAR
An internal server error occurred.