BEGIN:VCALENDAR
VERSION:2.0
PRODID:-//hacksw/handcal//NONSGML v1.0//EN
CALSCALE:GREGORIAN
BEGIN:VEVENT
DTEND:20070609T230000Z
UID:69e73ac8c2b31
DTSTAMP:20260421T095224Z
LOCATION:0 
DESCRIPTION:
URL;VALUE=URI:
SUMMARY:3. Kreissparkassen-Marathon
DTSTART:20070609T230000Z
END:VEVENT
END:VCALENDAR
An internal server error occurred.