BEGIN:VCALENDAR
VERSION:2.0
PRODID:-//hacksw/handcal//NONSGML v1.0//EN
CALSCALE:GREGORIAN
BEGIN:VEVENT
DTEND:20070609T230000Z
UID:69e75d6b97f3f
DTSTAMP:20260421T122011Z
LOCATION:0 
DESCRIPTION:
URL;VALUE=URI:
SUMMARY:Strohhutfestlauf 
DTSTART:20070609T230000Z
END:VEVENT
END:VCALENDAR
An internal server error occurred.