BEGIN:VCALENDAR
VERSION:2.0
PRODID:-//hacksw/handcal//NONSGML v1.0//EN
CALSCALE:GREGORIAN
BEGIN:VEVENT
DTEND:20070608T230000Z
UID:69e82361d4e10
DTSTAMP:20260422T022449Z
LOCATION:0 
DESCRIPTION:
URL;VALUE=URI:
SUMMARY:8. Ostfriesland Marathon in Hesel 
DTSTART:20070608T230000Z
END:VEVENT
END:VCALENDAR
An internal server error occurred.