BEGIN:VCALENDAR
VERSION:2.0
PRODID:-//hacksw/handcal//NONSGML v1.0//EN
CALSCALE:GREGORIAN
BEGIN:VEVENT
DTEND:20070608T230000Z
UID:69e70ec7a3114
DTSTAMP:20260421T064439Z
LOCATION:0 
DESCRIPTION:
URL;VALUE=URI:
SUMMARY:5. Wandsbeker Abendlauf
DTSTART:20070608T230000Z
END:VEVENT
END:VCALENDAR
An internal server error occurred.