BEGIN:VCALENDAR
VERSION:2.0
PRODID:-//hacksw/handcal//NONSGML v1.0//EN
CALSCALE:GREGORIAN
BEGIN:VEVENT
DTEND:20070608T230000Z
UID:69e6fdf5e0ed8
DTSTAMP:20260421T053253Z
LOCATION:0 
DESCRIPTION:
URL;VALUE=URI:
SUMMARY:5. Pyramiden-Treppenlauf
DTSTART:20070608T230000Z
END:VEVENT
END:VCALENDAR
An internal server error occurred.