BEGIN:VCALENDAR
VERSION:2.0
PRODID:-//hacksw/handcal//NONSGML v1.0//EN
CALSCALE:GREGORIAN
BEGIN:VEVENT
DTEND:20070608T230000Z
UID:69e68f0902fbb
DTSTAMP:20260420T213937Z
LOCATION:0 
DESCRIPTION:
URL;VALUE=URI:
SUMMARY:24. Int. Volkslauf
DTSTART:20070608T230000Z
END:VEVENT
END:VCALENDAR
An internal server error occurred.