BEGIN:VCALENDAR
VERSION:2.0
PRODID:-//hacksw/handcal//NONSGML v1.0//EN
CALSCALE:GREGORIAN
BEGIN:VEVENT
DTEND:20070607T230000Z
UID:69e98773e73ca
DTSTAMP:20260423T034403Z
LOCATION:0 
DESCRIPTION:
URL;VALUE=URI:
SUMMARY:28. Int. Abendlauf Nacht von Hasbergen
DTSTART:20070607T230000Z
END:VEVENT
END:VCALENDAR
An internal server error occurred.