BEGIN:VCALENDAR
VERSION:2.0
PRODID:-//hacksw/handcal//NONSGML v1.0//EN
CALSCALE:GREGORIAN
BEGIN:VEVENT
DTEND:20070607T230000Z
UID:69e9b83d52d21
DTSTAMP:20260423T071213Z
LOCATION:0 
DESCRIPTION:
URL;VALUE=URI:
SUMMARY:27. Weyher Volkslauf und Wandertag
DTSTART:20070607T230000Z
END:VEVENT
END:VCALENDAR
An internal server error occurred.