BEGIN:VCALENDAR
VERSION:2.0
PRODID:-//hacksw/handcal//NONSGML v1.0//EN
CALSCALE:GREGORIAN
BEGIN:VEVENT
DTEND:20070607T230000Z
UID:69e6f2de303d4
DTSTAMP:20260421T044534Z
LOCATION:0 
DESCRIPTION:
URL;VALUE=URI:
SUMMARY:1. Auricher Sparkassenlauf
DTSTART:20070607T230000Z
END:VEVENT
END:VCALENDAR
An internal server error occurred.