BEGIN:VCALENDAR
VERSION:2.0
PRODID:-//hacksw/handcal//NONSGML v1.0//EN
CALSCALE:GREGORIAN
BEGIN:VEVENT
DTEND:20070607T230000Z
UID:69e73accdb0a8
DTSTAMP:20260421T095228Z
LOCATION:0 
DESCRIPTION:
URL;VALUE=URI:
SUMMARY:bis 10.06.  Intern. Brüder-Grimm-Lauf
DTSTART:20070607T230000Z
END:VEVENT
END:VCALENDAR
An internal server error occurred.