BEGIN:VCALENDAR
VERSION:2.0
PRODID:-//hacksw/handcal//NONSGML v1.0//EN
CALSCALE:GREGORIAN
BEGIN:VEVENT
DTEND:20070607T230000Z
UID:69ecec6f343ca
DTSTAMP:20260425T173143Z
LOCATION:0 
DESCRIPTION:
URL;VALUE=URI:
SUMMARY:24. Großengstinger Sommernachtslauf mit Power Race für Menschen mit Behinderung 
DTSTART:20070607T230000Z
END:VEVENT
END:VCALENDAR
An internal server error occurred.