BEGIN:VCALENDAR
VERSION:2.0
PRODID:-//hacksw/handcal//NONSGML v1.0//EN
CALSCALE:GREGORIAN
BEGIN:VEVENT
DTEND:20070607T230000Z
UID:69ecb3ddd066b
DTSTAMP:20260425T133021Z
LOCATION:0 
DESCRIPTION:
URL;VALUE=URI:
SUMMARY:3. Saalfelder Bambini- Schloßparklauf
DTSTART:20070607T230000Z
END:VEVENT
END:VCALENDAR
An internal server error occurred.