BEGIN:VCALENDAR
VERSION:2.0
PRODID:-//hacksw/handcal//NONSGML v1.0//EN
CALSCALE:GREGORIAN
BEGIN:VEVENT
DTEND:20070607T230000Z
UID:69e8437ef263c
DTSTAMP:20260422T044150Z
LOCATION:0 
DESCRIPTION:
URL;VALUE=URI:
SUMMARY:18. Stadtlauf-Holsenköstenlauf
DTSTART:20070607T230000Z
END:VEVENT
END:VCALENDAR
An internal server error occurred.