BEGIN:VCALENDAR
VERSION:2.0
PRODID:-//hacksw/handcal//NONSGML v1.0//EN
CALSCALE:GREGORIAN
BEGIN:VEVENT
DTEND:20070606T230000Z
UID:69ed846ded17e
DTSTAMP:20260426T042013Z
LOCATION:0 
DESCRIPTION:
URL;VALUE=URI:
SUMMARY:22. Bonameser Volkslauf um den Frankfurter Volksbank Cup
DTSTART:20070606T230000Z
END:VEVENT
END:VCALENDAR
An internal server error occurred.