BEGIN:VCALENDAR
VERSION:2.0
PRODID:-//hacksw/handcal//NONSGML v1.0//EN
CALSCALE:GREGORIAN
BEGIN:VEVENT
DTEND:20070606T230000Z
UID:69e6de36640d9
DTSTAMP:20260421T031726Z
LOCATION:0 
DESCRIPTION:
URL;VALUE=URI:
SUMMARY:27. Volkswandertag - Kayh
DTSTART:20070606T230000Z
END:VEVENT
END:VCALENDAR
An internal server error occurred.