BEGIN:VCALENDAR
VERSION:2.0
PRODID:-//hacksw/handcal//NONSGML v1.0//EN
CALSCALE:GREGORIAN
BEGIN:VEVENT
DTEND:20070605T230000Z
UID:69e6c9f16739e
DTSTAMP:20260421T015057Z
LOCATION:0 
DESCRIPTION:
URL;VALUE=URI:
SUMMARY:Laufserie 2007 (3)
DTSTART:20070605T230000Z
END:VEVENT
END:VCALENDAR
An internal server error occurred.