BEGIN:VCALENDAR
VERSION:2.0
PRODID:-//hacksw/handcal//NONSGML v1.0//EN
CALSCALE:GREGORIAN
BEGIN:VEVENT
DTEND:20070605T230000Z
UID:69e6e069c4120
DTSTAMP:20260421T032649Z
LOCATION:0 
DESCRIPTION:
URL;VALUE=URI:
SUMMARY:6. Gäulauf
DTSTART:20070605T230000Z
END:VEVENT
END:VCALENDAR
An internal server error occurred.