BEGIN:VCALENDAR
VERSION:2.0
PRODID:-//hacksw/handcal//NONSGML v1.0//EN
CALSCALE:GREGORIAN
BEGIN:VEVENT
DTEND:20070602T230000Z
UID:69e6a828b7b2a
DTSTAMP:20260420T232648Z
LOCATION:0 
DESCRIPTION:
URL;VALUE=URI:
SUMMARY:5. Promenadenlauf
DTSTART:20070602T230000Z
END:VEVENT
END:VCALENDAR
An internal server error occurred.