BEGIN:VCALENDAR
VERSION:2.0
PRODID:-//hacksw/handcal//NONSGML v1.0//EN
CALSCALE:GREGORIAN
BEGIN:VEVENT
DTEND:20070602T230000Z
UID:69e6f2de46945
DTSTAMP:20260421T044534Z
LOCATION:0 
DESCRIPTION:
URL;VALUE=URI:
SUMMARY:32. Steinberger Wald-Volkslauf
DTSTART:20070602T230000Z
END:VEVENT
END:VCALENDAR
An internal server error occurred.