BEGIN:VCALENDAR
VERSION:2.0
PRODID:-//hacksw/handcal//NONSGML v1.0//EN
CALSCALE:GREGORIAN
BEGIN:VEVENT
DTEND:20070602T230000Z
UID:69e99503c5ef1
DTSTAMP:20260423T044155Z
LOCATION:0 
DESCRIPTION:
URL;VALUE=URI:
SUMMARY:11. Arriba Stadtlauf Norderstedt
DTSTART:20070602T230000Z
END:VEVENT
END:VCALENDAR
An internal server error occurred.