BEGIN:VCALENDAR
VERSION:2.0
PRODID:-//hacksw/handcal//NONSGML v1.0//EN
CALSCALE:GREGORIAN
BEGIN:VEVENT
DTEND:20070601T230000Z
UID:69e70ec8b949d
DTSTAMP:20260421T064440Z
LOCATION:63165 Mühlheim
DESCRIPTION:
URL;VALUE=URI:
SUMMARY:4. Saarner Sommernachtslauf
DTSTART:20070601T230000Z
END:VEVENT
END:VCALENDAR
An internal server error occurred.