BEGIN:VCALENDAR
VERSION:2.0
PRODID:-//hacksw/handcal//NONSGML v1.0//EN
CALSCALE:GREGORIAN
BEGIN:VEVENT
DTEND:20070601T230000Z
UID:69e6330320d59
DTSTAMP:20260420T150659Z
LOCATION:0 
DESCRIPTION:
URL;VALUE=URI:
SUMMARY:21. Wremer Deichlauf
DTSTART:20070601T230000Z
END:VEVENT
END:VCALENDAR
An internal server error occurred.