BEGIN:VCALENDAR
VERSION:2.0
PRODID:-//hacksw/handcal//NONSGML v1.0//EN
CALSCALE:GREGORIAN
BEGIN:VEVENT
DTEND:20070601T230000Z
UID:69e6c9ec37a04
DTSTAMP:20260421T015052Z
LOCATION:0 
DESCRIPTION:
URL;VALUE=URI:
SUMMARY:Himmelsleiterlauf
DTSTART:20070601T230000Z
END:VEVENT
END:VCALENDAR
An internal server error occurred.