BEGIN:VCALENDAR
VERSION:2.0
PRODID:-//hacksw/handcal//NONSGML v1.0//EN
CALSCALE:GREGORIAN
BEGIN:VEVENT
DTEND:20070601T230000Z
UID:69e6de35a661e
DTSTAMP:20260421T031725Z
LOCATION:0 
DESCRIPTION:
URL;VALUE=URI:
SUMMARY:18. Dorflauf Geiss-Nidda
DTSTART:20070601T230000Z
END:VEVENT
END:VCALENDAR
An internal server error occurred.