BEGIN:VCALENDAR
VERSION:2.0
PRODID:-//hacksw/handcal//NONSGML v1.0//EN
CALSCALE:GREGORIAN
BEGIN:VEVENT
DTEND:20070601T230000Z
UID:69e720fbd30d3
DTSTAMP:20260421T080219Z
LOCATION:0 
DESCRIPTION:
URL;VALUE=URI:
SUMMARY:4. Lingelbacher Windmühlenlauf
DTSTART:20070601T230000Z
END:VEVENT
END:VCALENDAR
An internal server error occurred.