BEGIN:VCALENDAR
VERSION:2.0
PRODID:-//hacksw/handcal//NONSGML v1.0//EN
CALSCALE:GREGORIAN
BEGIN:VEVENT
DTEND:20070601T230000Z
UID:69e74198f3fb8
DTSTAMP:20260421T102128Z
LOCATION:0 
DESCRIPTION:
URL;VALUE=URI:
SUMMARY:4. Heusenstammer Kirchenlauf
DTSTART:20070601T230000Z
END:VEVENT
END:VCALENDAR
An internal server error occurred.