BEGIN:VCALENDAR
VERSION:2.0
PRODID:-//hacksw/handcal//NONSGML v1.0//EN
CALSCALE:GREGORIAN
BEGIN:VEVENT
DTEND:20070601T230000Z
UID:69e9d10186e60
DTSTAMP:20260423T085753Z
LOCATION:0 
DESCRIPTION:
URL;VALUE=URI:
SUMMARY:13. Limbacher Marktlauf / 6. Lauf Lichtenauer Sachsen-Cup 2007
DTSTART:20070601T230000Z
END:VEVENT
END:VCALENDAR
An internal server error occurred.