BEGIN:VCALENDAR
VERSION:2.0
PRODID:-//hacksw/handcal//NONSGML v1.0//EN
CALSCALE:GREGORIAN
BEGIN:VEVENT
DTEND:20070601T230000Z
UID:69ecf425bf7b3
DTSTAMP:20260425T180437Z
LOCATION:0 
DESCRIPTION:
URL;VALUE=URI:
SUMMARY:1. Illinger Citylauf - 32. Int. Saarland Volkslauf
DTSTART:20070601T230000Z
END:VEVENT
END:VCALENDAR
An internal server error occurred.