BEGIN:VCALENDAR
VERSION:2.0
PRODID:-//hacksw/handcal//NONSGML v1.0//EN
CALSCALE:GREGORIAN
BEGIN:VEVENT
DTEND:20070531T230000Z
UID:69e65fc6e13c9
DTSTAMP:20260420T181758Z
LOCATION:0 
DESCRIPTION:
URL;VALUE=URI:
SUMMARY:2. Kleinbahnlauf
DTSTART:20070531T230000Z
END:VEVENT
END:VCALENDAR
An internal server error occurred.