BEGIN:VCALENDAR
VERSION:2.0
PRODID:-//hacksw/handcal//NONSGML v1.0//EN
CALSCALE:GREGORIAN
BEGIN:VEVENT
DTEND:20070531T230000Z
UID:69e859dc94be0
DTSTAMP:20260422T061716Z
LOCATION:0 
DESCRIPTION:
URL;VALUE=URI:
SUMMARY:31. Int. Weissenburger Altstadtlauf
DTSTART:20070531T230000Z
END:VEVENT
END:VCALENDAR
An internal server error occurred.