BEGIN:VCALENDAR
VERSION:2.0
PRODID:-//hacksw/handcal//NONSGML v1.0//EN
CALSCALE:GREGORIAN
BEGIN:VEVENT
DTEND:20070531T230000Z
UID:69e73765baf62
DTSTAMP:20260421T093757Z
LOCATION:0 
DESCRIPTION:
URL;VALUE=URI:
SUMMARY:13. Int. Saar - Lor - Lux - Lauf der Polizei
DTSTART:20070531T230000Z
END:VEVENT
END:VCALENDAR
An internal server error occurred.