BEGIN:VCALENDAR
VERSION:2.0
PRODID:-//hacksw/handcal//NONSGML v1.0//EN
CALSCALE:GREGORIAN
BEGIN:VEVENT
DTEND:20070531T230000Z
UID:69e9b9134e9da
DTSTAMP:20260423T071547Z
LOCATION:0 
DESCRIPTION:
URL;VALUE=URI:
SUMMARY:18. Sünninghausener Straßenlauf mit Walking
DTSTART:20070531T230000Z
END:VEVENT
END:VCALENDAR
An internal server error occurred.