BEGIN:VCALENDAR
VERSION:2.0
PRODID:-//hacksw/handcal//NONSGML v1.0//EN
CALSCALE:GREGORIAN
BEGIN:VEVENT
DTEND:20070531T230000Z
UID:69e75d6251f6f
DTSTAMP:20260421T122002Z
LOCATION:0 
DESCRIPTION:
URL;VALUE=URI:
SUMMARY:24. Lahnsteiner Zwei-Flüsse-Lauf
DTSTART:20070531T230000Z
END:VEVENT
END:VCALENDAR
An internal server error occurred.