BEGIN:VCALENDAR
VERSION:2.0
PRODID:-//hacksw/handcal//NONSGML v1.0//EN
CALSCALE:GREGORIAN
BEGIN:VEVENT
DTEND:20070529T230000Z
UID:69e73ac452e8f
DTSTAMP:20260421T095220Z
LOCATION:0 
DESCRIPTION:
URL;VALUE=URI:
SUMMARY:20. Kickelhahn-Berglauf
DTSTART:20070529T230000Z
END:VEVENT
END:VCALENDAR
An internal server error occurred.