BEGIN:VCALENDAR
VERSION:2.0
PRODID:-//hacksw/handcal//NONSGML v1.0//EN
CALSCALE:GREGORIAN
BEGIN:VEVENT
DTEND:20070529T230000Z
UID:69e611ea09fa9
DTSTAMP:20260420T124546Z
LOCATION:0 
DESCRIPTION:
URL;VALUE=URI:
SUMMARY:1. Mayener Stadionmeeting
DTSTART:20070529T230000Z
END:VEVENT
END:VCALENDAR
An internal server error occurred.