BEGIN:VCALENDAR
VERSION:2.0
PRODID:-//hacksw/handcal//NONSGML v1.0//EN
CALSCALE:GREGORIAN
BEGIN:VEVENT
DTEND:20070527T230000Z
UID:69e70ec6a2c78
DTSTAMP:20260421T064438Z
LOCATION:0 
DESCRIPTION:
URL;VALUE=URI:
SUMMARY:29. Weezer Pfingsthalbmarathon
DTSTART:20070527T230000Z
END:VEVENT
END:VCALENDAR
An internal server error occurred.