BEGIN:VCALENDAR
VERSION:2.0
PRODID:-//hacksw/handcal//NONSGML v1.0//EN
CALSCALE:GREGORIAN
BEGIN:VEVENT
DTEND:20070527T230000Z
UID:69e99533a0022
DTSTAMP:20260423T044243Z
LOCATION:0 
DESCRIPTION:
URL;VALUE=URI:
SUMMARY:33. Int. Volkslauf mit Nordic Walking
DTSTART:20070527T230000Z
END:VEVENT
END:VCALENDAR
An internal server error occurred.