BEGIN:VCALENDAR
VERSION:2.0
PRODID:-//hacksw/handcal//NONSGML v1.0//EN
CALSCALE:GREGORIAN
BEGIN:VEVENT
DTEND:20070527T230000Z
UID:69ed07920ab9c
DTSTAMP:20260425T192730Z
LOCATION:0 
DESCRIPTION:
URL;VALUE=URI:
SUMMARY:24. Sülzbacher Volkslauf Rund um den Altenberg  
DTSTART:20070527T230000Z
END:VEVENT
END:VCALENDAR
An internal server error occurred.