BEGIN:VCALENDAR
VERSION:2.0
PRODID:-//hacksw/handcal//NONSGML v1.0//EN
CALSCALE:GREGORIAN
BEGIN:VEVENT
DTEND:20070527T230000Z
UID:69e75d63aaf18
DTSTAMP:20260421T122003Z
LOCATION:0 
DESCRIPTION:
URL;VALUE=URI:
SUMMARY:5. Hainaer Pfingstlauf
DTSTART:20070527T230000Z
END:VEVENT
END:VCALENDAR
An internal server error occurred.