BEGIN:VCALENDAR
VERSION:2.0
PRODID:-//hacksw/handcal//NONSGML v1.0//EN
CALSCALE:GREGORIAN
BEGIN:VEVENT
DTEND:20070527T230000Z
UID:69e7abc9a1b9b
DTSTAMP:20260421T175433Z
LOCATION:0 
DESCRIPTION:
URL;VALUE=URI:
SUMMARY:7. Gerstewitzer Mühlentaglauf
DTSTART:20070527T230000Z
END:VEVENT
END:VCALENDAR
An internal server error occurred.