BEGIN:VCALENDAR
VERSION:2.0
PRODID:-//hacksw/handcal//NONSGML v1.0//EN
CALSCALE:GREGORIAN
BEGIN:VEVENT
DTEND:20070527T230000Z
UID:69e632ff1c16e
DTSTAMP:20260420T150655Z
LOCATION:0 
DESCRIPTION:
URL;VALUE=URI:
SUMMARY:Südpfalzlauf
DTSTART:20070527T230000Z
END:VEVENT
END:VCALENDAR
An internal server error occurred.